BEGIN:VCALENDAR
VERSION:2.0
PRODID:icalendar-ruby
CALSCALE:GREGORIAN
METHOD:PUBLISH
BEGIN:VEVENT
DTSTAMP:20260423T150232Z
UID:15-218290@ecor.org
DTSTART:20260521T010000Z
DTEND:20260521T020000Z
CLASS:PUBLIC
CREATED:20260422T095916
DESCRIPTION:Join us for Sung Compline on the 3rd Wednesday of each month at
  7:30 p.m. in the chapel.  Come enjoy a free dinner between 6:00 p.m.  a
 nd 7:00 p.m. and then end your evening with a peaceful prayer service.
LAST-MODIFIED:20260422T095916
LOCATION:1131 S. Main Street\, Centerville\, UT
SUMMARY:Sung Compline
URL;VALUE=URI:https://www.ecor.org/events/sung-compline/2026-05-20
ATTACH;FILENAME=NslK.jpg;FMTTYPE=image/jpeg:https://dq5pwpg1q8ru0.cloudfron
 t.net/2025/10/29/06/45/41/8142aff9-70a2-4c04-8fe8-3b0096a9b696/NslK.jpg
END:VEVENT
END:VCALENDAR
